BEGIN:VCALENDAR
VERSION:2.0
PRODID:-//Indus River Services Areas - ECPv6.15.20//NONSGML v1.0//EN
CALSCALE:GREGORIAN
METHOD:PUBLISH
X-WR-CALNAME:Indus River Services Areas
X-ORIGINAL-URL:https://indusserviceareas.com
X-WR-CALDESC:Events for Indus River Services Areas
REFRESH-INTERVAL;VALUE=DURATION:PT1H
X-Robots-Tag:noindex
X-PUBLISHED-TTL:PT1H
BEGIN:VTIMEZONE
TZID:UTC
BEGIN:STANDARD
TZOFFSETFROM:+0000
TZOFFSETTO:+0000
TZNAME:UTC
DTSTART:20240101T000000
END:STANDARD
END:VTIMEZONE
BEGIN:VEVENT
DTSTART;TZID=UTC:20250320T000000
DTEND;TZID=UTC:20250320T235900
DTSTAMP:20260421T162505
CREATED:20230311T040942Z
LAST-MODIFIED:20251006T104732Z
UID:259-1742428800-1742515140@indusserviceareas.com
SUMMARY:Latest Development Updates with PSIR North Bound
DESCRIPTION:The PSIR continues to make remarkable progress\, with recent developments showcasing significant advancements in infrastructure and design. \nFresh images from the site reveal the rapid pace of construction\, highlighting completed structural foundations\, ongoing framework installations\, and the deployment of advanced construction equipment. Engineers and workers are diligently ensuring that the project meets the highest standards of quality and safety. \nThe latest visuals also capture the modern architectural approach being implemented\, reinforcing the project’s commitment to sustainability and efficiency. Stakeholders remain optimistic about the timely completion of the development\, which is expected to bring economic growth and improved facilities to the region. \nStay tuned for more updates as the construction progresses. \nWould you like me to include a request for official images or any additional details?
URL:https://indusserviceareas.com/event/switzerland-summit-marks-for-adventure-travel/
CATEGORIES:News & Events
ATTACH;FMTTYPE=image/jpeg:https://indusserviceareas.com/wp-content/uploads/2023/01/WhatsApp-Image-2025-02-10-at-10.20.26-AM-1-scaled.jpeg
END:VEVENT
END:VCALENDAR